BEGIN:VCALENDAR
VERSION:2.0
PRODID:-//ALG Baar - ECPv6.15.15//NONSGML v1.0//EN
CALSCALE:GREGORIAN
METHOD:PUBLISH
X-WR-CALNAME:ALG Baar
X-ORIGINAL-URL:https://alternative-baar.ch
X-WR-CALDESC:Veranstaltungen für ALG Baar
REFRESH-INTERVAL;VALUE=DURATION:PT1H
X-Robots-Tag:noindex
X-PUBLISHED-TTL:PT1H
BEGIN:VTIMEZONE
TZID:Europe/Zurich
BEGIN:DAYLIGHT
TZOFFSETFROM:+0100
TZOFFSETTO:+0200
TZNAME:CEST
DTSTART:20250330T010000
END:DAYLIGHT
BEGIN:STANDARD
TZOFFSETFROM:+0200
TZOFFSETTO:+0100
TZNAME:CET
DTSTART:20251026T010000
END:STANDARD
BEGIN:DAYLIGHT
TZOFFSETFROM:+0100
TZOFFSETTO:+0200
TZNAME:CEST
DTSTART:20260329T010000
END:DAYLIGHT
BEGIN:STANDARD
TZOFFSETFROM:+0200
TZOFFSETTO:+0100
TZNAME:CET
DTSTART:20261025T010000
END:STANDARD
BEGIN:DAYLIGHT
TZOFFSETFROM:+0100
TZOFFSETTO:+0200
TZNAME:CEST
DTSTART:20270328T010000
END:DAYLIGHT
BEGIN:STANDARD
TZOFFSETFROM:+0200
TZOFFSETTO:+0100
TZNAME:CET
DTSTART:20271031T010000
END:STANDARD
END:VTIMEZONE
BEGIN:VEVENT
DTSTART;TZID=Europe/Zurich:20260518T193000
DTEND;TZID=Europe/Zurich:20260518T210000
DTSTAMP:20260424T081737
CREATED:20260403T084621Z
LAST-MODIFIED:20260403T084954Z
UID:554-1779132600-1779138000@alternative-baar.ch
SUMMARY:Vorversammlung zur Gemeindeversammlung 10. Juni 2026
DESCRIPTION:
URL:https://alternative-baar.ch/event/vorversammlung-zur-gemeindeversammlung
LOCATION:Restaurant Sport Inn\, Neugasse 55\, Baar\, Zug\, 6340
CATEGORIES:Agenda
END:VEVENT
END:VCALENDAR